BEGIN:VCALENDAR
VERSION:2.0
PRODID:-//The Claremont Colleges - ECPv6.15.20//NONSGML v1.0//EN
CALSCALE:GREGORIAN
METHOD:PUBLISH
X-WR-CALNAME:The Claremont Colleges
X-ORIGINAL-URL:https://claremont.edu
X-WR-CALDESC:Events for The Claremont Colleges
REFRESH-INTERVAL;VALUE=DURATION:PT1H
X-Robots-Tag:noindex
X-PUBLISHED-TTL:PT1H
BEGIN:VTIMEZONE
TZID:America/Los_Angeles
BEGIN:DAYLIGHT
TZOFFSETFROM:-0800
TZOFFSETTO:-0700
TZNAME:PDT
DTSTART:20250309T100000
END:DAYLIGHT
BEGIN:STANDARD
TZOFFSETFROM:-0700
TZOFFSETTO:-0800
TZNAME:PST
DTSTART:20251102T090000
END:STANDARD
BEGIN:DAYLIGHT
TZOFFSETFROM:-0800
TZOFFSETTO:-0700
TZNAME:PDT
DTSTART:20260308T100000
END:DAYLIGHT
BEGIN:STANDARD
TZOFFSETFROM:-0700
TZOFFSETTO:-0800
TZNAME:PST
DTSTART:20261101T090000
END:STANDARD
BEGIN:DAYLIGHT
TZOFFSETFROM:-0800
TZOFFSETTO:-0700
TZNAME:PDT
DTSTART:20270314T100000
END:DAYLIGHT
BEGIN:STANDARD
TZOFFSETFROM:-0700
TZOFFSETTO:-0800
TZNAME:PST
DTSTART:20271107T090000
END:STANDARD
END:VTIMEZONE
BEGIN:VEVENT
DTSTART;TZID=America/Los_Angeles:20260501T200000
DTEND;TZID=America/Los_Angeles:20260501T212000
DTSTAMP:20260425T044231
CREATED:20260425T020127Z
LAST-MODIFIED:20260425T020132Z
UID:10001344-1777665600-1777670400@claremont.edu
SUMMARY:Spring Dance Concert
DESCRIPTION:
URL:https://claremont.edu/event/spring-dance-concert-2/
CATEGORIES:Live Performance
END:VEVENT
BEGIN:VEVENT
DTSTART;TZID=America/Los_Angeles:20260501T200000
DTEND;TZID=America/Los_Angeles:20260501T213000
DTSTAMP:20260425T044231
CREATED:20260425T020127Z
LAST-MODIFIED:20260425T020131Z
UID:10001395-1777665600-1777671000@claremont.edu
SUMMARY:Pomona College Jazz Ensemble
DESCRIPTION:
URL:https://claremont.edu/event/pomona-college-jazz-ensemble/
CATEGORIES:Live Performance
END:VEVENT
BEGIN:VEVENT
DTSTART;TZID=America/Los_Angeles:20260502T133000
DTEND;TZID=America/Los_Angeles:20260502T150000
DTSTAMP:20260425T044231
CREATED:20260425T020127Z
LAST-MODIFIED:20260425T020132Z
UID:10001388-1777728600-1777734000@claremont.edu
SUMMARY:Pomona College Glee Club
DESCRIPTION:
URL:https://claremont.edu/event/pomona-college-glee-club-2/
CATEGORIES:Live Performance
END:VEVENT
BEGIN:VEVENT
DTSTART;TZID=America/Los_Angeles:20260502T200000
DTEND;TZID=America/Los_Angeles:20260502T212000
DTSTAMP:20260425T044231
CREATED:20260425T020127Z
LAST-MODIFIED:20260425T020132Z
UID:10001345-1777752000-1777756800@claremont.edu
SUMMARY:Spring Dance Concert
DESCRIPTION:
URL:https://claremont.edu/event/spring-dance-concert-3/
CATEGORIES:Live Performance
END:VEVENT
BEGIN:VEVENT
DTSTART;TZID=America/Los_Angeles:20260503T140000
DTEND;TZID=America/Los_Angeles:20260503T152000
DTSTAMP:20260425T044231
CREATED:20260425T020127Z
LAST-MODIFIED:20260425T020133Z
UID:10001346-1777816800-1777821600@claremont.edu
SUMMARY:Spring Dance Concert
DESCRIPTION:
URL:https://claremont.edu/event/spring-dance-concert-4/
CATEGORIES:Live Performance
END:VEVENT
BEGIN:VEVENT
DTSTART;TZID=America/Los_Angeles:20260503T150000
DTEND;TZID=America/Los_Angeles:20260503T160000
DTSTAMP:20260425T044231
CREATED:20260425T020127Z
LAST-MODIFIED:20260425T020133Z
UID:10001412-1777820400-1777824000@claremont.edu
SUMMARY:Student Recital
DESCRIPTION:
URL:https://claremont.edu/event/student-recital-10/
CATEGORIES:Live Performance
END:VEVENT
BEGIN:VEVENT
DTSTART;TZID=America/Los_Angeles:20260504T200000
DTEND;TZID=America/Los_Angeles:20260504T213000
DTSTAMP:20260425T044231
CREATED:20260425T020127Z
LAST-MODIFIED:20260425T020133Z
UID:10001396-1777924800-1777930200@claremont.edu
SUMMARY:Giri Kusuma: Pomona College Balinese Gamelan
DESCRIPTION:
URL:https://claremont.edu/event/giri-kusuma-pomona-college-balinese-gamelan/
CATEGORIES:Live Performance
END:VEVENT
BEGIN:VEVENT
DTSTART;TZID=America/Los_Angeles:20260505T190000
DTEND;TZID=America/Los_Angeles:20260505T203000
DTSTAMP:20260425T044231
CREATED:20260425T020134Z
LAST-MODIFIED:20260425T020134Z
UID:10001413-1778007600-1778013000@claremont.edu
SUMMARY:Student Recital
DESCRIPTION:
URL:https://claremont.edu/event/student-recital-11/
CATEGORIES:Live Performance
END:VEVENT
BEGIN:VEVENT
DTSTART;TZID=America/Los_Angeles:20260506T190000
DTEND;TZID=America/Los_Angeles:20260506T203000
DTSTAMP:20260425T044231
CREATED:20260425T020134Z
LAST-MODIFIED:20260425T020134Z
UID:10001414-1778094000-1778099400@claremont.edu
SUMMARY:Student Recital
DESCRIPTION:
URL:https://claremont.edu/event/student-recital-12/
CATEGORIES:Live Performance
END:VEVENT
END:VCALENDAR