BEGIN:VCALENDAR
VERSION:2.0
PRODID:-//The Claremont Colleges - ECPv6.15.20//NONSGML v1.0//EN
CALSCALE:GREGORIAN
METHOD:PUBLISH
X-ORIGINAL-URL:https://claremont.edu
X-WR-CALDESC:Events for The Claremont Colleges
REFRESH-INTERVAL;VALUE=DURATION:PT1H
X-Robots-Tag:noindex
X-PUBLISHED-TTL:PT1H
BEGIN:VTIMEZONE
TZID:America/Los_Angeles
BEGIN:DAYLIGHT
TZOFFSETFROM:-0800
TZOFFSETTO:-0700
TZNAME:PDT
DTSTART:20170312T100000
END:DAYLIGHT
BEGIN:STANDARD
TZOFFSETFROM:-0700
TZOFFSETTO:-0800
TZNAME:PST
DTSTART:20171105T090000
END:STANDARD
BEGIN:DAYLIGHT
TZOFFSETFROM:-0800
TZOFFSETTO:-0700
TZNAME:PDT
DTSTART:20180311T100000
END:DAYLIGHT
BEGIN:STANDARD
TZOFFSETFROM:-0700
TZOFFSETTO:-0800
TZNAME:PST
DTSTART:20181104T090000
END:STANDARD
BEGIN:DAYLIGHT
TZOFFSETFROM:-0800
TZOFFSETTO:-0700
TZNAME:PDT
DTSTART:20190310T100000
END:DAYLIGHT
BEGIN:STANDARD
TZOFFSETFROM:-0700
TZOFFSETTO:-0800
TZNAME:PST
DTSTART:20191103T090000
END:STANDARD
BEGIN:DAYLIGHT
TZOFFSETFROM:-0800
TZOFFSETTO:-0700
TZNAME:PDT
DTSTART:20200308T100000
END:DAYLIGHT
BEGIN:STANDARD
TZOFFSETFROM:-0700
TZOFFSETTO:-0800
TZNAME:PST
DTSTART:20201101T090000
END:STANDARD
END:VTIMEZONE
BEGIN:VEVENT
DTSTART;TZID=America/Los_Angeles:20180427T190000
DTEND;TZID=America/Los_Angeles:20180427T203000
DTSTAMP:20260425T080610
CREATED:20260425T140136Z
LAST-MODIFIED:20260425T140136Z
UID:10001108-1524855600-1524861000@claremont.edu
SUMMARY:Levitt on the Lawn: Meklit
DESCRIPTION:“She sings of fragility\, hope and self-empowerment\, and exudes all three. What’s irresistible\, above all\, is her cradling\, sensuous\, gentle sound. She is stunning.”\n—The San Francisco Chronicle
URL:https://claremont.edu/event/levitt-on-the-lawn-meklit/
END:VEVENT
BEGIN:VEVENT
DTSTART;TZID=America/Los_Angeles:20180625T190000
DTEND;TZID=America/Los_Angeles:20180625T203000
DTSTAMP:20260425T080610
CREATED:20260425T140137Z
LAST-MODIFIED:20260425T140137Z
UID:10001110-1529953200-1529958600@claremont.edu
SUMMARY:Levitt on the Lawn: The Mastersons
DESCRIPTION:The Mastersons bring their intoxicating harmonies and exquisite instrumentation to Scripps for its annual June Levitt on the Lawn concert. “A perfect soundtrack for a summer of warm nights and hot\, lazy days\,” is how American S
URL:https://claremont.edu/event/levitt-on-the-lawn-the-mastersons/
END:VEVENT
BEGIN:VEVENT
DTSTART;TZID=America/Los_Angeles:20180907T183000
DTEND;TZID=America/Los_Angeles:20180907T200000
DTSTAMP:20260425T080610
CREATED:20260425T140137Z
LAST-MODIFIED:20260425T140137Z
UID:10001114-1536345000-1536350400@claremont.edu
SUMMARY:Levitt on the Lawn: Chacombo
DESCRIPTION:L.A.â€“based Afro-Peruvian band Chacombo knows how to get crowds moving with traditional tunes featuring the quijada de burro (donkey’s jaw) and cajon (box drum). Picnic on Bowling Green an
URL:https://claremont.edu/event/levitt-on-the-lawn-chacombo/
END:VEVENT
BEGIN:VEVENT
DTSTART;TZID=America/Los_Angeles:20180911T200000
DTEND;TZID=America/Los_Angeles:20180911T213000
DTSTAMP:20260425T080610
CREATED:20260425T140141Z
LAST-MODIFIED:20260425T140141Z
UID:10001132-1536696000-1536701400@claremont.edu
SUMMARY:An Evening with Gary Shteyngart
DESCRIPTION:Book Soup at the Skirball presents Gary Shteyngart reading from Lake Success Narcissistic\, hilariously self-deluded\, and divorced from the real world as most of us know
URL:https://claremont.edu/event/an-evening-with-gary-shteyngart/
END:VEVENT
BEGIN:VEVENT
DTSTART;TZID=America/Los_Angeles:20180913T190000
DTEND;TZID=America/Los_Angeles:20180913T201500
DTSTAMP:20260425T080610
CREATED:20260425T140137Z
LAST-MODIFIED:20260425T140137Z
UID:10001112-1536865200-1536869700@claremont.edu
SUMMARY:Lena Waithe in Conversation
DESCRIPTION:Actress\, producer\, and screenwriter Lena Waithe was the first black woman to win an Emmy for Outstanding Writing for a Comedy Series for Netflix’s Master of None. Her award-winning episode\, Thanksgiving\, was a poignant take on Waithe’s own experien
URL:https://claremont.edu/event/lena-waithe-in-conversation/
END:VEVENT
BEGIN:VEVENT
DTSTART;TZID=America/Los_Angeles:20180915T150000
DTEND;TZID=America/Los_Angeles:20180915T161500
DTSTAMP:20260425T080610
CREATED:20260425T140138Z
LAST-MODIFIED:20260425T140138Z
UID:10001116-1537023600-1537028100@claremont.edu
SUMMARY:Path to the Stars: Sylvia Acevedo in Conversation
DESCRIPTION:“Shoot for the stars!” CEO of the Girl Scouts of the USA Sylvia Acevedo took that mantra to heart. Her memoir\, Path to the Stars\, is a powerful reflection on the foundational experiences that led her
URL:https://claremont.edu/event/path-to-the-stars-sylvia-acevedo-in-conversation/
END:VEVENT
BEGIN:VEVENT
DTSTART;TZID=America/Los_Angeles:20180920T180000
DTEND;TZID=America/Los_Angeles:20180920T191500
DTSTAMP:20260425T080610
CREATED:20260425T140138Z
LAST-MODIFIED:20260425T140138Z
UID:10001118-1537466400-1537470900@claremont.edu
SUMMARY:Charles Baxter
DESCRIPTION:Please Note: The location of this program has changed to the Hampton Room.\nCharles Baxter has kept happy readers company for more than 30 years. His Nationa
URL:https://claremont.edu/event/charles-baxter/
END:VEVENT
BEGIN:VEVENT
DTSTART;TZID=America/Los_Angeles:20180926T190000
DTEND;TZID=America/Los_Angeles:20180926T201500
DTSTAMP:20260425T080610
CREATED:20260425T140138Z
LAST-MODIFIED:20260425T140138Z
UID:10001120-1537988400-1537992900@claremont.edu
SUMMARY:Dear America: Jose Antonio Vargas in Conversation
DESCRIPTION:Jose Antonio Vargas made headlines in 2011 for revealing his undocumented status in the New York Times. A Pulitzer Prizeâ€“winning journalist\, his revelations gave new visibility to the immense ch
URL:https://claremont.edu/event/dear-america-jose-antonio-vargas-in-conversation/
END:VEVENT
BEGIN:VEVENT
DTSTART;TZID=America/Los_Angeles:20180927T180000
DTEND;TZID=America/Los_Angeles:20180927T191500
DTSTAMP:20260425T080610
CREATED:20260425T140138Z
LAST-MODIFIED:20260425T140138Z
UID:10001121-1538071200-1538075700@claremont.edu
SUMMARY:Eric Klinenberg: Palaces for the People
DESCRIPTION:Please note: The location for this event has been changed to the Hampton Room.\nThe relationship between an individual and their community has preoccupied Eric Klinenberg for over
URL:https://claremont.edu/event/eric-klinenberg-palaces-for-the-people/
END:VEVENT
BEGIN:VEVENT
DTSTART;TZID=America/Los_Angeles:20181004T190000
DTEND;TZID=America/Los_Angeles:20181004T204500
DTSTAMP:20260425T080610
CREATED:20260425T140139Z
LAST-MODIFIED:20260425T140139Z
UID:10001122-1538679600-1538685900@claremont.edu
SUMMARY:Truck: Bridgman|Packer Dance
DESCRIPTION:It’s a testament to the choreographic brilliance and technological prowess of co-directors Art Bridgman and Myrna Packer that a box truck can be utterly transformed into a playful and vibra
URL:https://claremont.edu/event/truck-bridgmanpacker-dance/
END:VEVENT
BEGIN:VEVENT
DTSTART;TZID=America/Los_Angeles:20181009T180000
DTEND;TZID=America/Los_Angeles:20181009T191500
DTSTAMP:20260425T080610
CREATED:20260425T140139Z
LAST-MODIFIED:20260425T140139Z
UID:10001124-1539108000-1539112500@claremont.edu
SUMMARY:Latif Nasser
DESCRIPTION:The history of science is stranger than fiction—Latif Nasser\, director of research at Radiolab\, should know. His research on such wide-ranging topics as culture-bound illnesses\, snowflake photography
URL:https://claremont.edu/event/latif-nasser/
END:VEVENT
BEGIN:VEVENT
DTSTART;TZID=America/Los_Angeles:20181015T180000
DTEND;TZID=America/Los_Angeles:20181015T191500
DTSTAMP:20260425T080610
CREATED:20260425T140139Z
LAST-MODIFIED:20260425T140139Z
UID:10001125-1539626400-1539630900@claremont.edu
SUMMARY:Ignorance in the Age of Information: Zeynep Tufekci
DESCRIPTION:Zeynep Tufekci\, a techno-sociologist and assistant professor in the School of Information and Library Science at the University of North Carolina and faculty associate at Harvard’s Berkman Klein Center for In
URL:https://claremont.edu/event/ignorance-in-the-age-of-information-zeynep-tufekci/
END:VEVENT
BEGIN:VEVENT
DTSTART;TZID=America/Los_Angeles:20181016T180000
DTEND;TZID=America/Los_Angeles:20181016T191500
DTSTAMP:20260425T080610
CREATED:20260425T140141Z
LAST-MODIFIED:20260425T140141Z
UID:10001131-1539712800-1539717300@claremont.edu
SUMMARY:On Community: Liz Lerman in Conversation
DESCRIPTION:Iconic choreographer Liz Lerman returns to Scripps for an encore engagement! In conversation with Assistant Professor of Dance Kevin Williamson\, Lerman will reflect on the idea of community a
URL:https://claremont.edu/event/on-community-liz-lerman-in-conversation/
END:VEVENT
BEGIN:VEVENT
DTSTART;TZID=America/Los_Angeles:20181024T180000
DTEND;TZID=America/Los_Angeles:20181024T191500
DTSTAMP:20260425T080610
CREATED:20260425T140139Z
LAST-MODIFIED:20260425T140139Z
UID:10001126-1540404000-1540408500@claremont.edu
SUMMARY:ZigZag: Manoush Zomorodi in Conversation
DESCRIPTION:When it comes to the social implications of technology\, Manoush Zomorodi is obsessed. Zomorodi is the co-founder of Stable Genius Productions\, a media company with a mission to help people navigate personal a
URL:https://claremont.edu/event/zigzag-manoush-zomorodi-in-conversation/
END:VEVENT
BEGIN:VEVENT
DTSTART;TZID=America/Los_Angeles:20181030T180000
DTEND;TZID=America/Los_Angeles:20181030T191500
DTSTAMP:20260425T080610
CREATED:20260425T140140Z
LAST-MODIFIED:20260425T140140Z
UID:10001127-1540922400-1540926900@claremont.edu
SUMMARY:We Can't Breathe: Jabari Asim in Conversation
DESCRIPTION:In the vein of W.E.B. Du Bois\, James Baldwin\, Richard Wright\, and Claudia Rankine\, Jabari Asim has emerged as an essential voice on the black experience in America and the struggle for survival and persistenc
URL:https://claremont.edu/event/we-cant-breathe-jabari-asim-in-conversation/
END:VEVENT
BEGIN:VEVENT
DTSTART;TZID=America/Los_Angeles:20181104T193000
DTEND;TZID=America/Los_Angeles:20181104T210000
DTSTAMP:20260425T080610
CREATED:20260425T140141Z
LAST-MODIFIED:20260425T140141Z
UID:10001133-1541359800-1541365200@claremont.edu
SUMMARY:Abbi Jacobson in Conversation
DESCRIPTION:We’re pleased to announce that additional tickets will be available on the day of the program! Visit the Garrison Box Office at 7 pm to get on the wait list. Tickets are $25 and include a signed copy of Abbi Jacobson
URL:https://claremont.edu/event/abbi-jacobson-in-conversation/
END:VEVENT
BEGIN:VEVENT
DTSTART;TZID=America/Los_Angeles:20181107T190000
DTEND;TZID=America/Los_Angeles:20181107T201500
DTSTAMP:20260425T080610
CREATED:20260425T140140Z
LAST-MODIFIED:20260425T140140Z
UID:10001128-1541617200-1541621700@claremont.edu
SUMMARY:Well-Read Black Girl: Glory Edim
DESCRIPTION:Glory Edim brings together communities of book fans and aficionados to celebrate a deep appreciation for black women’s writing. Through her immensely popular Instagram\, a writers’ festival in her hometown o
URL:https://claremont.edu/event/well-read-black-girl-glory-edim/
END:VEVENT
BEGIN:VEVENT
DTSTART;TZID=America/Los_Angeles:20181108T180000
DTEND;TZID=America/Los_Angeles:20181108T191500
DTSTAMP:20260425T080610
CREATED:20260425T140140Z
LAST-MODIFIED:20260425T140140Z
UID:10001129-1541700000-1541704500@claremont.edu
SUMMARY:CANCELLED -- Just the Funny Parts: Nell Scovell
DESCRIPTION:PLEASE NOTE: This program has been cancelled. Please stay tuned for updates regarding a potential rescheduled date in Spring 2019. \nNell Scovell
URL:https://claremont.edu/event/cancelled-just-the-funny-parts-nell-scovell/
END:VEVENT
BEGIN:VEVENT
DTSTART;TZID=America/Los_Angeles:20181114T180000
DTEND;TZID=America/Los_Angeles:20181114T191500
DTSTAMP:20260425T080610
CREATED:20260425T140140Z
LAST-MODIFIED:20260425T140141Z
UID:10001130-1542218400-1542222900@claremont.edu
SUMMARY:Nathan Englander: A Reading and Conversation
DESCRIPTION:Nathan Englander is the Pulitzer Prizeâ€“finalist and best-selling author of For the Relief of Unbearable Urges and What We Talk About When We Talk About Anne Frank. His latest book\, Dinner a
URL:https://claremont.edu/event/nathan-englander-a-reading-and-conversation/
END:VEVENT
BEGIN:VEVENT
DTSTART;TZID=America/Los_Angeles:20190129T180000
DTEND;TZID=America/Los_Angeles:20190129T190000
DTSTAMP:20260425T080610
CREATED:20260425T140142Z
LAST-MODIFIED:20260425T140142Z
UID:10001134-1548784800-1548788400@claremont.edu
SUMMARY:MLK Commemorative Lecture: Bettina Love
DESCRIPTION:Bettina Love is an award-winning author and hip-hop scholar. In her new book\, We Want to Do More Than Survive: Abolitionist Teaching and the Pursuit of Educational Freedom\, the University of Georgia associat
URL:https://claremont.edu/event/mlk-commemorative-lecture-bettina-love/
END:VEVENT
BEGIN:VEVENT
DTSTART;TZID=America/Los_Angeles:20190131T190000
DTEND;TZID=America/Los_Angeles:20190131T200000
DTSTAMP:20260425T080610
CREATED:20260425T140142Z
LAST-MODIFIED:20260425T140142Z
UID:10001135-1548961200-1548964800@claremont.edu
SUMMARY:Crazy Rich Asians: Kevin Kwan in Conversation
DESCRIPTION:This event is sold out. Tickets may become available on the day of the program. Please visit the Scripps Presents Box Office at Garrison Theater beginning at 6:30 pm on the day of the program to have you name added to the wait list
URL:https://claremont.edu/event/crazy-rich-asians-kevin-kwan-in-conversation/
END:VEVENT
BEGIN:VEVENT
DTSTART;TZID=America/Los_Angeles:20190204T121500
DTEND;TZID=America/Los_Angeles:20190204T131500
DTSTAMP:20260425T080610
CREATED:20260425T140142Z
LAST-MODIFIED:20260425T140142Z
UID:10001136-1549282500-1549286100@claremont.edu
SUMMARY:'@Noon: Roles of the Museum Conservator
DESCRIPTION:Geneva Griswold’s work as the associate objects conservator at the Seattle Art Museum is both an art and a science. The 2007 Scripps graduate oversees the installation\, storage\, display\, and preservation of the mus
URL:https://claremont.edu/event/noon-roles-of-the-museum-conservator/
END:VEVENT
BEGIN:VEVENT
DTSTART;TZID=America/Los_Angeles:20190205T190000
DTEND;TZID=America/Los_Angeles:20190205T210000
DTSTAMP:20260425T080610
CREATED:20260425T140142Z
LAST-MODIFIED:20260425T140142Z
UID:10001137-1549393200-1549400400@claremont.edu
SUMMARY:Work-in-Progress: Wicked Bodies
DESCRIPTION:Liz Lerman’s history of sly\, grotesque\, sensual\, and wildly creative women debuts as a work in progress on the Scripps stage. Inspired\, in part\, by the College’s Denison Library’s Witches and Healing archiv
URL:https://claremont.edu/event/work-in-progress-wicked-bodies/
END:VEVENT
BEGIN:VEVENT
DTSTART;TZID=America/Los_Angeles:20190212T121500
DTEND;TZID=America/Los_Angeles:20190212T131500
DTSTAMP:20260425T080610
CREATED:20260425T140143Z
LAST-MODIFIED:20260425T140143Z
UID:10001138-1549973700-1549977300@claremont.edu
SUMMARY:'@Noon: Poet Sally Wen Mao
DESCRIPTION:Sally Wen Mao’s poetry collection Oculus is an eerie\, yet powerful\, exploration of technology. The 2017 Pushcart Prize winner deploys sharp wit and a speculative imagination to confront the spectacle
URL:https://claremont.edu/event/noon-poet-sally-wen-mao/
END:VEVENT
BEGIN:VEVENT
DTSTART;TZID=America/Los_Angeles:20190219T180000
DTEND;TZID=America/Los_Angeles:20190219T191500
DTSTAMP:20260425T080610
CREATED:20260425T140143Z
LAST-MODIFIED:20260425T140143Z
UID:10001139-1550599200-1550603700@claremont.edu
SUMMARY:The New Yorker's Andrew Marantz in Conversation
DESCRIPTION:When it comes to parsing the rapidly changing online media landscape\, readers look to Andrew Marantz. The New Yorker writer has explored the topic from a variety of angles\, investigating social media trolls
URL:https://claremont.edu/event/the-new-yorkers-andrew-marantz-in-conversation/
END:VEVENT
BEGIN:VEVENT
DTSTART;TZID=America/Los_Angeles:20190220T180000
DTEND;TZID=America/Los_Angeles:20190220T191500
DTSTAMP:20260425T080610
CREATED:20260425T140143Z
LAST-MODIFIED:20260425T140143Z
UID:10001140-1550685600-1550690100@claremont.edu
SUMMARY:Gaby Dunn\, Bad with Money
DESCRIPTION:Gaby Dunn’s podcast Bad with Money features episodes like “Screaming Into a Jar (aka Student Loans)\,” “It’s Not Just a Few Feet of Sea Level Rise (aka Climate Change is an Economic Issue)\,” and “Who Can Affo
URL:https://claremont.edu/event/gaby-dunn-bad-with-money/
END:VEVENT
BEGIN:VEVENT
DTSTART;TZID=America/Los_Angeles:20190226T180000
DTEND;TZID=America/Los_Angeles:20190226T191500
DTSTAMP:20260425T080610
CREATED:20260425T140143Z
LAST-MODIFIED:20260425T140143Z
UID:10001141-1551204000-1551208500@claremont.edu
SUMMARY:Morgan Parker and Nicole Sealey: An Evening of Poetry
DESCRIPTION:Morgan Parker and Nicole Sealey mine the personal and political in their poetry\, both reveling in and revealing the issues at the heart of contemporary life. Parker’s most recent collection\, Th
URL:https://claremont.edu/event/morgan-parker-and-nicole-sealey-an-evening-of-poetry/
END:VEVENT
BEGIN:VEVENT
DTSTART;TZID=America/Los_Angeles:20190227T190000
DTEND;TZID=America/Los_Angeles:20190227T201500
DTSTAMP:20260425T080610
CREATED:20260425T140145Z
LAST-MODIFIED:20260425T140145Z
UID:10001148-1551294000-1551298500@claremont.edu
SUMMARY:Pete Buttigieg in Conversation
DESCRIPTION:Heartland politics: rather than a monolithic “flyover country\,” the midwestern voting public can be—as both parties learned during the last presidential election—stubbornly elusive. Who better to make that point than an
URL:https://claremont.edu/event/pete-buttigieg-in-conversation/
END:VEVENT
BEGIN:VEVENT
DTSTART;TZID=America/Los_Angeles:20190228T180000
DTEND;TZID=America/Los_Angeles:20190228T191500
DTSTAMP:20260425T080610
CREATED:20260425T140144Z
LAST-MODIFIED:20260425T140144Z
UID:10001142-1551376800-1551381300@claremont.edu
SUMMARY:Girard Psychology Lecture: Iris Mauss
DESCRIPTION:Mindfulness\, self-care\, and “positive thinking” are all touted as panaceas for negative emotions. But according to University of California\, Berkeley\, researcher Iris Mauss\, if you’re feeling down\, the self-imposed
URL:https://claremont.edu/event/girard-psychology-lecture-iris-mauss/
END:VEVENT
BEGIN:VEVENT
DTSTART;TZID=America/Los_Angeles:20190304T121500
DTEND;TZID=America/Los_Angeles:20190304T133000
DTSTAMP:20260425T080610
CREATED:20260425T140144Z
LAST-MODIFIED:20260425T140144Z
UID:10001143-1551701700-1551706200@claremont.edu
SUMMARY:'@Noon: A Conversation with Mary Schmidt Campbell
DESCRIPTION:When it comes to race\, art\, and gender\, Spelman College President Mary Schmidt Campbell\, PhD is an authority. Campbell was integral in expanding the Studio Museum in Harlem\, transforming it into the country’s first
URL:https://claremont.edu/event/noon-a-conversation-with-mary-schmidt-campbell/
END:VEVENT
END:VCALENDAR