BEGIN:VCALENDAR
VERSION:2.0
PRODID:-//The Claremont Colleges - ECPv6.15.20//NONSGML v1.0//EN
CALSCALE:GREGORIAN
METHOD:PUBLISH
X-ORIGINAL-URL:https://claremont.edu
X-WR-CALDESC:Events for The Claremont Colleges
REFRESH-INTERVAL;VALUE=DURATION:PT1H
X-Robots-Tag:noindex
X-PUBLISHED-TTL:PT1H
BEGIN:VTIMEZONE
TZID:America/Los_Angeles
BEGIN:DAYLIGHT
TZOFFSETFROM:-0800
TZOFFSETTO:-0700
TZNAME:PDT
DTSTART:20170312T100000
END:DAYLIGHT
BEGIN:STANDARD
TZOFFSETFROM:-0700
TZOFFSETTO:-0800
TZNAME:PST
DTSTART:20171105T090000
END:STANDARD
BEGIN:DAYLIGHT
TZOFFSETFROM:-0800
TZOFFSETTO:-0700
TZNAME:PDT
DTSTART:20180311T100000
END:DAYLIGHT
BEGIN:STANDARD
TZOFFSETFROM:-0700
TZOFFSETTO:-0800
TZNAME:PST
DTSTART:20181104T090000
END:STANDARD
BEGIN:DAYLIGHT
TZOFFSETFROM:-0800
TZOFFSETTO:-0700
TZNAME:PDT
DTSTART:20190310T100000
END:DAYLIGHT
BEGIN:STANDARD
TZOFFSETFROM:-0700
TZOFFSETTO:-0800
TZNAME:PST
DTSTART:20191103T090000
END:STANDARD
END:VTIMEZONE
BEGIN:VEVENT
DTSTART;TZID=America/Los_Angeles:20180208T180000
DTEND;TZID=America/Los_Angeles:20180208T191500
DTSTAMP:20260424T153237
CREATED:20260424T180101Z
LAST-MODIFIED:20260424T180101Z
UID:10001090-1518112800-1518117300@claremont.edu
SUMMARY:Artist as Activist: Liz Lerman in Conversation
DESCRIPTION:Liz Lerman is an icon. For the past four decades\, the choreographer\, performer\, writer\, and teacher has engaged artists and audiences alike with her intellectually curious\, nimble explorations. She brings her gene
URL:https://claremont.edu/event/artist-as-activist-liz-lerman-in-conversation/
END:VEVENT
BEGIN:VEVENT
DTSTART;TZID=America/Los_Angeles:20180217T150000
DTEND;TZID=America/Los_Angeles:20180217T163000
DTSTAMP:20260424T153237
CREATED:20260424T180101Z
LAST-MODIFIED:20260424T180101Z
UID:10001092-1518879600-1518885000@claremont.edu
SUMMARY:ArtSmooch
DESCRIPTION:ArtSmooch is a multidisciplinary showcase of student\, faculty\, and visiting artist work—an interplay of original poetry\, music\, visual art\, and dance composed for the occasion. The performance will feature on-stage collaboration
URL:https://claremont.edu/event/artsmooch/
END:VEVENT
BEGIN:VEVENT
DTSTART;TZID=America/Los_Angeles:20180220T180000
DTEND;TZID=America/Los_Angeles:20180220T191500
DTSTAMP:20260424T153237
CREATED:20260424T180101Z
LAST-MODIFIED:20260424T180101Z
UID:10001094-1519149600-1519154100@claremont.edu
SUMMARY:Yaa Gyasi in Conversation
DESCRIPTION:Winning praise from Ta-Nehisi Coates\, Roxane Gay\, and Trevor Noah\, among others\, Yaa Gyasi’s Homegoing is a singular literary experience. Beginning in 18th-century Ghana with the story of two half-sisters w
URL:https://claremont.edu/event/yaa-gyasi-in-conversation/
END:VEVENT
BEGIN:VEVENT
DTSTART;TZID=America/Los_Angeles:20180222T180000
DTEND;TZID=America/Los_Angeles:20180222T191500
DTSTAMP:20260424T153237
CREATED:20260424T180102Z
LAST-MODIFIED:20260424T180102Z
UID:10001096-1519322400-1519326900@claremont.edu
SUMMARY:A Really Good Day: A Conversation with Ayelet Waldman
DESCRIPTION:When it comes to mental health and self-care\, the literature is plentiful. That’s why Ayelet Waldman’s A Really Good Day: How Microdosing Made a Mega Difference in My Mood\, My Marriage\, and My Life is such
URL:https://claremont.edu/event/a-really-good-day-a-conversation-with-ayelet-waldman/
END:VEVENT
END:VCALENDAR