BEGIN:VCALENDAR
VERSION:2.0
PRODID:-//The Claremont Colleges - ECPv6.15.20//NONSGML v1.0//EN
CALSCALE:GREGORIAN
METHOD:PUBLISH
X-ORIGINAL-URL:https://claremont.edu
X-WR-CALDESC:Events for The Claremont Colleges
REFRESH-INTERVAL;VALUE=DURATION:PT1H
X-Robots-Tag:noindex
X-PUBLISHED-TTL:PT1H
BEGIN:VTIMEZONE
TZID:America/Los_Angeles
BEGIN:DAYLIGHT
TZOFFSETFROM:-0800
TZOFFSETTO:-0700
TZNAME:PDT
DTSTART:20170312T100000
END:DAYLIGHT
BEGIN:STANDARD
TZOFFSETFROM:-0700
TZOFFSETTO:-0800
TZNAME:PST
DTSTART:20171105T090000
END:STANDARD
BEGIN:DAYLIGHT
TZOFFSETFROM:-0800
TZOFFSETTO:-0700
TZNAME:PDT
DTSTART:20180311T100000
END:DAYLIGHT
BEGIN:STANDARD
TZOFFSETFROM:-0700
TZOFFSETTO:-0800
TZNAME:PST
DTSTART:20181104T090000
END:STANDARD
BEGIN:DAYLIGHT
TZOFFSETFROM:-0800
TZOFFSETTO:-0700
TZNAME:PDT
DTSTART:20190310T100000
END:DAYLIGHT
BEGIN:STANDARD
TZOFFSETFROM:-0700
TZOFFSETTO:-0800
TZNAME:PST
DTSTART:20191103T090000
END:STANDARD
END:VTIMEZONE
BEGIN:VEVENT
DTSTART;TZID=America/Los_Angeles:20181004T190000
DTEND;TZID=America/Los_Angeles:20181004T204500
DTSTAMP:20260424T190402
CREATED:20260425T020138Z
LAST-MODIFIED:20260425T020138Z
UID:10001122-1538679600-1538685900@claremont.edu
SUMMARY:Truck: Bridgman|Packer Dance
DESCRIPTION:It’s a testament to the choreographic brilliance and technological prowess of co-directors Art Bridgman and Myrna Packer that a box truck can be utterly transformed into a playful and vibra
URL:https://claremont.edu/event/truck-bridgmanpacker-dance/
END:VEVENT
BEGIN:VEVENT
DTSTART;TZID=America/Los_Angeles:20181009T180000
DTEND;TZID=America/Los_Angeles:20181009T191500
DTSTAMP:20260424T190402
CREATED:20260425T020138Z
LAST-MODIFIED:20260425T020138Z
UID:10001124-1539108000-1539112500@claremont.edu
SUMMARY:Latif Nasser
DESCRIPTION:The history of science is stranger than fiction—Latif Nasser\, director of research at Radiolab\, should know. His research on such wide-ranging topics as culture-bound illnesses\, snowflake photography
URL:https://claremont.edu/event/latif-nasser/
END:VEVENT
BEGIN:VEVENT
DTSTART;TZID=America/Los_Angeles:20181015T180000
DTEND;TZID=America/Los_Angeles:20181015T191500
DTSTAMP:20260424T190402
CREATED:20260425T020139Z
LAST-MODIFIED:20260425T020139Z
UID:10001125-1539626400-1539630900@claremont.edu
SUMMARY:Ignorance in the Age of Information: Zeynep Tufekci
DESCRIPTION:Zeynep Tufekci\, a techno-sociologist and assistant professor in the School of Information and Library Science at the University of North Carolina and faculty associate at Harvard’s Berkman Klein Center for In
URL:https://claremont.edu/event/ignorance-in-the-age-of-information-zeynep-tufekci/
END:VEVENT
BEGIN:VEVENT
DTSTART;TZID=America/Los_Angeles:20181016T180000
DTEND;TZID=America/Los_Angeles:20181016T191500
DTSTAMP:20260424T190402
CREATED:20260425T020141Z
LAST-MODIFIED:20260425T020141Z
UID:10001131-1539712800-1539717300@claremont.edu
SUMMARY:On Community: Liz Lerman in Conversation
DESCRIPTION:Iconic choreographer Liz Lerman returns to Scripps for an encore engagement! In conversation with Assistant Professor of Dance Kevin Williamson\, Lerman will reflect on the idea of community a
URL:https://claremont.edu/event/on-community-liz-lerman-in-conversation/
END:VEVENT
BEGIN:VEVENT
DTSTART;TZID=America/Los_Angeles:20181024T180000
DTEND;TZID=America/Los_Angeles:20181024T191500
DTSTAMP:20260424T190402
CREATED:20260425T020139Z
LAST-MODIFIED:20260425T020139Z
UID:10001126-1540404000-1540408500@claremont.edu
SUMMARY:ZigZag: Manoush Zomorodi in Conversation
DESCRIPTION:When it comes to the social implications of technology\, Manoush Zomorodi is obsessed. Zomorodi is the co-founder of Stable Genius Productions\, a media company with a mission to help people navigate personal a
URL:https://claremont.edu/event/zigzag-manoush-zomorodi-in-conversation/
END:VEVENT
BEGIN:VEVENT
DTSTART;TZID=America/Los_Angeles:20181030T180000
DTEND;TZID=America/Los_Angeles:20181030T191500
DTSTAMP:20260424T190402
CREATED:20260425T020139Z
LAST-MODIFIED:20260425T020139Z
UID:10001127-1540922400-1540926900@claremont.edu
SUMMARY:We Can't Breathe: Jabari Asim in Conversation
DESCRIPTION:In the vein of W.E.B. Du Bois\, James Baldwin\, Richard Wright\, and Claudia Rankine\, Jabari Asim has emerged as an essential voice on the black experience in America and the struggle for survival and persistenc
URL:https://claremont.edu/event/we-cant-breathe-jabari-asim-in-conversation/
END:VEVENT
END:VCALENDAR