BEGIN:VCALENDAR
VERSION:2.0
PRODID:-//The Claremont Colleges - ECPv6.15.14//NONSGML v1.0//EN
CALSCALE:GREGORIAN
METHOD:PUBLISH
X-WR-CALNAME:The Claremont Colleges
X-ORIGINAL-URL:https://claremont.edu
X-WR-CALDESC:Events for The Claremont Colleges
REFRESH-INTERVAL;VALUE=DURATION:PT1H
X-Robots-Tag:noindex
X-PUBLISHED-TTL:PT1H
BEGIN:VTIMEZONE
TZID:America/Los_Angeles
BEGIN:DAYLIGHT
TZOFFSETFROM:-0800
TZOFFSETTO:-0700
TZNAME:PDT
DTSTART:20240310T100000
END:DAYLIGHT
BEGIN:STANDARD
TZOFFSETFROM:-0700
TZOFFSETTO:-0800
TZNAME:PST
DTSTART:20241103T090000
END:STANDARD
BEGIN:DAYLIGHT
TZOFFSETFROM:-0800
TZOFFSETTO:-0700
TZNAME:PDT
DTSTART:20250309T100000
END:DAYLIGHT
BEGIN:STANDARD
TZOFFSETFROM:-0700
TZOFFSETTO:-0800
TZNAME:PST
DTSTART:20251102T090000
END:STANDARD
BEGIN:DAYLIGHT
TZOFFSETFROM:-0800
TZOFFSETTO:-0700
TZNAME:PDT
DTSTART:20260308T100000
END:DAYLIGHT
BEGIN:STANDARD
TZOFFSETFROM:-0700
TZOFFSETTO:-0800
TZNAME:PST
DTSTART:20261101T090000
END:STANDARD
END:VTIMEZONE
BEGIN:VEVENT
DTSTART;VALUE=DATE:20250407
DTEND;VALUE=DATE:20251213
DTSTAMP:20260421T141821
CREATED:20250326T011612Z
LAST-MODIFIED:20250819T212855Z
UID:10000480-1743984000-1765583999@claremont.edu
SUMMARY:Illuminating the Past: Educational Textbooks During the Republic of China Era Exhibit
DESCRIPTION:
URL:https://claremont.edu/event/illuminating-the-past-educational-textbooks-during-the-republic-of-china-era/
LOCATION:The Claremont Colleges Library\, 800 N. Dartmouth Ave\, Claremont\, California\, 91711
CATEGORIES:Exhibit
END:VEVENT
BEGIN:VEVENT
DTSTART;TZID=America/Los_Angeles:20250424T120000
DTEND;TZID=America/Los_Angeles:20250424T130000
DTSTAMP:20260421T141821
CREATED:20260421T180141Z
LAST-MODIFIED:20260421T180141Z
UID:10001243-1745496000-1745499600@claremont.edu
SUMMARY:'@Noon with Briana Loewinsohn
DESCRIPTION:GET TICKETS!!\nCartoonist and author Briana Loewinsohn will discuss her ac
URL:https://claremont.edu/event/noon-with-briana-loewinsohn/
END:VEVENT
BEGIN:VEVENT
DTSTART;TZID=America/Los_Angeles:20250425T121500
DTEND;TZID=America/Los_Angeles:20250425T130000
DTSTAMP:20260421T141821
CREATED:20260421T180141Z
LAST-MODIFIED:20260421T180141Z
UID:10001251-1745583300-1745586000@claremont.edu
SUMMARY:Friday Noon Concert Series
DESCRIPTION:Violinist Sarah Thronblade and guitarist Connie Sheu perform on April 25th in the final Friday Noon Concert of the semester.\nPlease visit the
URL:https://claremont.edu/event/friday-noon-concert-series/
END:VEVENT
BEGIN:VEVENT
DTSTART;TZID=America/Los_Angeles:20250426T193000
DTEND;TZID=America/Los_Angeles:20250426T210000
DTSTAMP:20260421T141821
CREATED:20260421T180140Z
LAST-MODIFIED:20260421T180140Z
UID:10001238-1745695800-1745701200@claremont.edu
SUMMARY:Spring Choral Concert
DESCRIPTION:The Joint Music Program of Claremont McKenna\, Harvey Mudd\, Pitzer\, and Scripps Colleges presents\nThe Claremont Concert Choir\nwith the Chaffey College Chamber Choir\nand the Whittier College Choir.\nJonathan Johnson and Edward S
URL:https://claremont.edu/event/spring-choral-concert/
END:VEVENT
END:VCALENDAR