BEGIN:VCALENDAR
VERSION:2.0
PRODID:-//The Claremont Colleges - ECPv6.15.14//NONSGML v1.0//EN
CALSCALE:GREGORIAN
METHOD:PUBLISH
X-ORIGINAL-URL:https://claremont.edu
X-WR-CALDESC:Events for The Claremont Colleges
REFRESH-INTERVAL;VALUE=DURATION:PT1H
X-Robots-Tag:noindex
X-PUBLISHED-TTL:PT1H
BEGIN:VTIMEZONE
TZID:America/Los_Angeles
BEGIN:DAYLIGHT
TZOFFSETFROM:-0800
TZOFFSETTO:-0700
TZNAME:PDT
DTSTART:20250309T100000
END:DAYLIGHT
BEGIN:STANDARD
TZOFFSETFROM:-0700
TZOFFSETTO:-0800
TZNAME:PST
DTSTART:20251102T090000
END:STANDARD
BEGIN:DAYLIGHT
TZOFFSETFROM:-0800
TZOFFSETTO:-0700
TZNAME:PDT
DTSTART:20260308T100000
END:DAYLIGHT
BEGIN:STANDARD
TZOFFSETFROM:-0700
TZOFFSETTO:-0800
TZNAME:PST
DTSTART:20261101T090000
END:STANDARD
BEGIN:DAYLIGHT
TZOFFSETFROM:-0800
TZOFFSETTO:-0700
TZNAME:PDT
DTSTART:20270314T100000
END:DAYLIGHT
BEGIN:STANDARD
TZOFFSETFROM:-0700
TZOFFSETTO:-0800
TZNAME:PST
DTSTART:20271107T090000
END:STANDARD
END:VTIMEZONE
BEGIN:VEVENT
DTSTART;VALUE=DATE:20260120
DTEND;VALUE=DATE:20260531
DTSTAMP:20260419T145031
CREATED:20260217T231748Z
LAST-MODIFIED:20260217T231748Z
UID:10001337-1768867200-1780185599@claremont.edu
SUMMARY:Snapshots: The Founding of The Claremont Colleges
DESCRIPTION:
URL:https://claremont.edu/event/snapshots-the-founding-of-the-claremont-colleges/
LOCATION:The Claremont Colleges Library\, 800 N. Dartmouth Ave\, Claremont\, California\, 91711
CATEGORIES:Exhibit
END:VEVENT
BEGIN:VEVENT
DTSTART;VALUE=DATE:20260202
DTEND;VALUE=DATE:20260829
DTSTAMP:20260419T145031
CREATED:20260121T062610Z
LAST-MODIFIED:20260121T062610Z
UID:10001055-1769990400-1787961599@claremont.edu
SUMMARY:Scattered Leaves: East Asian Rare Books Across Borders\, Regions & Cultures
DESCRIPTION:
URL:https://claremont.edu/event/scattered-leaves-east-asian-rare-books-across-borders-regions-cultures/
LOCATION:The Claremont Colleges Library\, 800 N. Dartmouth Ave\, Claremont\, California\, 91711
CATEGORIES:Exhibit
END:VEVENT
BEGIN:VEVENT
DTSTART;VALUE=DATE:20260323
DTEND;VALUE=DATE:20260702
DTSTAMP:20260419T145031
CREATED:20260330T235050Z
LAST-MODIFIED:20260330T235050Z
UID:10001389-1774224000-1782950399@claremont.edu
SUMMARY:"They Called Us Enemy": Japanese American Incarceration During WWII
DESCRIPTION:
URL:https://claremont.edu/event/they-called-us-enemy-japanese-american-incarceration-during-wwii/
LOCATION:The Claremont Colleges Library\, 800 N. Dartmouth Ave\, Claremont\, California\, 91711
CATEGORIES:Exhibit
END:VEVENT
BEGIN:VEVENT
DTSTART;TZID=America/Los_Angeles:20260419T150000
DTEND;TZID=America/Los_Angeles:20260419T170000
DTSTAMP:20260419T145031
CREATED:20260419T180124Z
LAST-MODIFIED:20260419T180124Z
UID:10001382-1776610800-1776618000@claremont.edu
SUMMARY:Pomona College Choir & Orchestra
DESCRIPTION:
URL:https://claremont.edu/event/pomona-college-choir-orchestra/
CATEGORIES:Live Performance
END:VEVENT
BEGIN:VEVENT
DTSTART;TZID=America/Los_Angeles:20260420T200000
DTEND;TZID=America/Los_Angeles:20260420T210000
DTSTAMP:20260419T145031
CREATED:20260419T180124Z
LAST-MODIFIED:20260419T180125Z
UID:10001384-1776715200-1776718800@claremont.edu
SUMMARY:Senior Recital
DESCRIPTION:
URL:https://claremont.edu/event/senior-recital/
CATEGORIES:Live Performance
END:VEVENT
BEGIN:VEVENT
DTSTART;TZID=America/Los_Angeles:20260421T121500
DTEND;TZID=America/Los_Angeles:20260421T131500
DTSTAMP:20260419T145031
CREATED:20260419T180124Z
LAST-MODIFIED:20260419T180125Z
UID:10001390-1776773700-1776777300@claremont.edu
SUMMARY:OLC: Genocide State Crime and Myanmar’s Genocide of the Rohingya
DESCRIPTION:
URL:https://claremont.edu/event/olc-genocide-state-crime-and-myanmars-genocide-of-the-rohingya/
CATEGORIES:Lecture
END:VEVENT
BEGIN:VEVENT
DTSTART;TZID=America/Los_Angeles:20260421T161500
DTEND;TZID=America/Los_Angeles:20260421T173000
DTSTAMP:20260419T145031
CREATED:20260414T211837Z
LAST-MODIFIED:20260414T211837Z
UID:10001406-1776788100-1776792600@claremont.edu
SUMMARY:Stephen and Sandra Glass Annual Humanities Lecture
DESCRIPTION:Your "Right to Die" v. Your "Right to Live": Necropolitics and Liberal Governance
URL:https://claremont.edu/event/stephen-and-sandra-glass-annual-humanities-lecture/
CATEGORIES:Lecture
END:VEVENT
BEGIN:VEVENT
DTSTART;TZID=America/Los_Angeles:20260422T161500
DTEND;TZID=America/Los_Angeles:20260422T180000
DTSTAMP:20260419T145031
CREATED:20260419T170145Z
LAST-MODIFIED:20260419T170145Z
UID:10001399-1776874500-1776880800@claremont.edu
SUMMARY:Book Talk– “Moving Mountains: Asian American and Pacific Islander Feminisms and the 1977 National Women’s Conference”
DESCRIPTION:Judy Tzu-Chun Wu and Adrienne A. Winans will discuss their book Moving Mountains\, which documents the first and only U.S. […]
URL:https://claremont.edu/event/book-talk-moving-mountains-asian-american-and-pacific-islander-feminisms-and-the-1977-national-womens-conference/
CATEGORIES:Lecture
END:VEVENT
BEGIN:VEVENT
DTSTART;TZID=America/Los_Angeles:20260422T193000
DTEND;TZID=America/Los_Angeles:20260422T210000
DTSTAMP:20260419T145031
CREATED:20260419T180124Z
LAST-MODIFIED:20260419T180125Z
UID:10001383-1776886200-1776891600@claremont.edu
SUMMARY:Student Recital
DESCRIPTION:
URL:https://claremont.edu/event/student-recital-10/
CATEGORIES:Live Performance
END:VEVENT
BEGIN:VEVENT
DTSTART;TZID=America/Los_Angeles:20260423T121500
DTEND;TZID=America/Los_Angeles:20260423T131500
DTSTAMP:20260419T145031
CREATED:20260419T180124Z
LAST-MODIFIED:20260419T180125Z
UID:10001392-1776946500-1776950100@claremont.edu
SUMMARY:OLC: In the Shadow of the Holocaust: Short Fiction by Jewish Writers from the Soviet Union
DESCRIPTION:
URL:https://claremont.edu/event/olc-in-the-shadow-of-the-holocaust-short-fiction-by-jewish-writers-from-the-soviet-union/
CATEGORIES:Lecture
END:VEVENT
BEGIN:VEVENT
DTSTART;TZID=America/Los_Angeles:20260423T161500
DTEND;TZID=America/Los_Angeles:20260423T173000
DTSTAMP:20260419T145031
CREATED:20260410T230309Z
LAST-MODIFIED:20260410T230309Z
UID:10001400-1776960900-1776965400@claremont.edu
SUMMARY:13th Annual Library Undergraduate Research Award Ceremony
DESCRIPTION:
URL:https://claremont.edu/event/13th-annual-library-undergraduate-research-award-ceremony/
LOCATION:The Founders Room\, The Claremont Colleges Library
CATEGORIES:Special Event
END:VEVENT
BEGIN:VEVENT
DTSTART;TZID=America/Los_Angeles:20260424T121500
DTEND;TZID=America/Los_Angeles:20260424T130000
DTSTAMP:20260419T145031
CREATED:20260419T180208Z
LAST-MODIFIED:20260419T180208Z
UID:10001323-1777032900-1777035600@claremont.edu
SUMMARY:Friday Noon Concert Series
DESCRIPTION:Sean Stanton\, baritone; Kristin Ditlow\, piano \nMusic by Beethoven\, Caplet\, and Bolcom \nPlease visit the
URL:https://claremont.edu/event/friday-noon-concert-series-21/
END:VEVENT
BEGIN:VEVENT
DTSTART;TZID=America/Los_Angeles:20260424T140000
DTEND;TZID=America/Los_Angeles:20260424T143000
DTSTAMP:20260419T145031
CREATED:20260419T180124Z
LAST-MODIFIED:20260419T180126Z
UID:10001373-1777039200-1777041000@claremont.edu
SUMMARY:Gallery Talk
DESCRIPTION:
URL:https://claremont.edu/event/gallery-talk/
CATEGORIES:Art Event/Opening
END:VEVENT
BEGIN:VEVENT
DTSTART;TZID=America/Los_Angeles:20260424T160000
DTEND;TZID=America/Los_Angeles:20260424T173000
DTSTAMP:20260419T145031
CREATED:20260419T180124Z
LAST-MODIFIED:20260419T180126Z
UID:10001402-1777046400-1777051800@claremont.edu
SUMMARY:Senior Recital
DESCRIPTION:
URL:https://claremont.edu/event/senior-recital-2/
CATEGORIES:Live Performance
END:VEVENT
BEGIN:VEVENT
DTSTART;TZID=America/Los_Angeles:20260424T200000
DTEND;TZID=America/Los_Angeles:20260424T213000
DTSTAMP:20260419T145031
CREATED:20260419T180124Z
LAST-MODIFIED:20260419T180126Z
UID:10001385-1777060800-1777066200@claremont.edu
SUMMARY:Pomona College Band
DESCRIPTION:
URL:https://claremont.edu/event/pomona-college-band/
CATEGORIES:Live Performance
END:VEVENT
BEGIN:VEVENT
DTSTART;TZID=America/Los_Angeles:20260425T120000
DTEND;TZID=America/Los_Angeles:20260425T190000
DTSTAMP:20260419T145031
CREATED:20260414T211837Z
LAST-MODIFIED:20260414T211837Z
UID:10001407-1777118400-1777143600@claremont.edu
SUMMARY:19th Annual Rockabilly
DESCRIPTION:Pitzer’s Latinx Student Union organizes the 19th annual Rockabilly festival — including live music\, a car show and fundraising for social justice organizations.
URL:https://claremont.edu/event/19th-annual-rockabilly/
CATEGORIES:Live Performance
END:VEVENT
BEGIN:VEVENT
DTSTART;TZID=America/Los_Angeles:20260425T150000
DTEND;TZID=America/Los_Angeles:20260425T200000
DTSTAMP:20260419T145031
CREATED:20260419T180111Z
LAST-MODIFIED:20260419T180111Z
UID:10001370-1777129200-1777147200@claremont.edu
SUMMARY:Hive 10-Year Anniversary Celebration
DESCRIPTION:What was once an exciting idea has become a buzzing human-centered design hub and launchpad for impact. Come celebrate 10 years of empathy\, creativity\, and action with the folks who’ve made it all possible– starting with you! We’ll have food\, drinks\, music\, and inspiring talks by alumni and other Hive friends!  RSVP Required — Click to Register!
URL:https://claremont.edu/event/hive-10-year-anniversary-celebration/
CATEGORIES:Special Event
END:VEVENT
BEGIN:VEVENT
DTSTART;TZID=America/Los_Angeles:20260425T170000
DTEND;TZID=America/Los_Angeles:20260425T210000
DTSTAMP:20260419T145031
CREATED:20260414T211837Z
LAST-MODIFIED:20260414T211837Z
UID:10001408-1777136400-1777150800@claremont.edu
SUMMARY:B.L.O.O.M. (Black Love Of Organic Music)
DESCRIPTION:Earth Tones' A Capella's annual arts and culture festival
URL:https://claremont.edu/event/b-l-o-o-m-black-love-of-organic-music/
CATEGORIES:Live Performance
ATTACH;FMTTYPE=image/jpeg:https://claremont.edu/wp-content/uploads/2026/04/earth-tones-769x513px.jpg
END:VEVENT
BEGIN:VEVENT
DTSTART;TZID=America/Los_Angeles:20260425T200000
DTEND;TZID=America/Los_Angeles:20260425T210000
DTSTAMP:20260419T145031
CREATED:20260419T180124Z
LAST-MODIFIED:20260419T180126Z
UID:10001393-1777147200-1777150800@claremont.edu
SUMMARY:Ligeti's Homage to Brahms
DESCRIPTION:
URL:https://claremont.edu/event/ligetis-homage-to-brahms/
CATEGORIES:Live Performance
END:VEVENT
BEGIN:VEVENT
DTSTART;TZID=America/Los_Angeles:20260426T150000
DTEND;TZID=America/Los_Angeles:20260426T163000
DTSTAMP:20260419T145031
CREATED:20260419T180124Z
LAST-MODIFIED:20260419T180127Z
UID:10001386-1777215600-1777221000@claremont.edu
SUMMARY:Pomona College Band
DESCRIPTION:
URL:https://claremont.edu/event/pomona-college-band-2/
CATEGORIES:Live Performance
END:VEVENT
BEGIN:VEVENT
DTSTART;TZID=America/Los_Angeles:20260426T150000
DTEND;TZID=America/Los_Angeles:20260426T163000
DTSTAMP:20260419T145031
CREATED:20260419T180206Z
LAST-MODIFIED:20260419T180206Z
UID:10001314-1777215600-1777221000@claremont.edu
SUMMARY:Choirs of the Joint Music Program Spring Concert
DESCRIPTION:The Joint Music Program of Claremont McKenna\, Harvey Mudd\, Pitzer\, and Scripps Colleges presents\nThe Claremont Chamber Choir and The Claremont Treble Singers.\nTzu-Han Ann Chen and Charles W. Kamm\, co-directors
URL:https://claremont.edu/event/choirs-of-the-joint-music-program-spring-concert/
END:VEVENT
BEGIN:VEVENT
DTSTART;TZID=America/Los_Angeles:20260426T190000
DTEND;TZID=America/Los_Angeles:20260426T210000
DTSTAMP:20260419T145031
CREATED:20260419T170145Z
LAST-MODIFIED:20260419T170145Z
UID:10001051-1777230000-1777237200@claremont.edu
SUMMARY:Concert Series: HMC Early Music Ensemble
DESCRIPTION:Come and enjoy the crumhorns\, shawms\, cornettos\, and recorders of the HMC Early Music Ensemble performing music from the European […]
URL:https://claremont.edu/event/concert-series-hmc-early-music-ensemble/
CATEGORIES:Live Performance
END:VEVENT
BEGIN:VEVENT
DTSTART;TZID=America/Los_Angeles:20260427T201500
DTEND;TZID=America/Los_Angeles:20260427T211500
DTSTAMP:20260419T145031
CREATED:20260419T180124Z
LAST-MODIFIED:20260419T180127Z
UID:10001394-1777320900-1777324500@claremont.edu
SUMMARY:Afro-Cuban Music Ensemble
DESCRIPTION:
URL:https://claremont.edu/event/afro-cuban-music-ensemble/
CATEGORIES:Live Performance
END:VEVENT
BEGIN:VEVENT
DTSTART;TZID=America/Los_Angeles:20260428T121500
DTEND;TZID=America/Los_Angeles:20260428T131500
DTSTAMP:20260419T145031
CREATED:20260419T180124Z
LAST-MODIFIED:20260419T180127Z
UID:10001403-1777378500-1777382100@claremont.edu
SUMMARY:OLC: Conversation Courses: A Roundtable with the Language Residents
DESCRIPTION:
URL:https://claremont.edu/event/olc-conversation-courses-a-roundtable-with-the-language-residents/
CATEGORIES:Lecture
END:VEVENT
BEGIN:VEVENT
DTSTART;TZID=America/Los_Angeles:20260430T161500
DTEND;TZID=America/Los_Angeles:20260430T200000
DTSTAMP:20260419T145031
CREATED:20260419T180124Z
LAST-MODIFIED:20260419T180127Z
UID:10001398-1777565700-1777579200@claremont.edu
SUMMARY:¡NoNoNosQuitan LoBailado!: Una Tarde de Arte\, Canto y Baile
DESCRIPTION:
URL:https://claremont.edu/event/nononosquitan-lobailado-una-tarde-de-arte-canto-y-baile/
CATEGORIES:Art Event/Opening
END:VEVENT
BEGIN:VEVENT
DTSTART;TZID=America/Los_Angeles:20260430T200000
DTEND;TZID=America/Los_Angeles:20260430T212000
DTSTAMP:20260419T145031
CREATED:20260419T180124Z
LAST-MODIFIED:20260419T180128Z
UID:10001343-1777579200-1777584000@claremont.edu
SUMMARY:Spring Dance Concert
DESCRIPTION:
URL:https://claremont.edu/event/spring-dance-concert/
CATEGORIES:Live Performance
END:VEVENT
BEGIN:VEVENT
DTSTART;TZID=America/Los_Angeles:20260430T200000
DTEND;TZID=America/Los_Angeles:20260430T213000
DTSTAMP:20260419T145031
CREATED:20260419T180124Z
LAST-MODIFIED:20260419T180128Z
UID:10001387-1777579200-1777584600@claremont.edu
SUMMARY:Pomona College Glee Club
DESCRIPTION:
URL:https://claremont.edu/event/pomona-college-glee-club/
CATEGORIES:Live Performance
END:VEVENT
END:VCALENDAR